Package: CNORode Version: 1.48.0 Command: /home/biocbuild/R/R/bin/R CMD INSTALL CNORode StartedAt: 2025-03-31 20:42:54 -0000 (Mon, 31 Mar 2025) EndedAt: 2025-03-31 20:43:15 -0000 (Mon, 31 Mar 2025) EllapsedTime: 21.6 seconds RetCode: 0 Status: OK