Package: CNORode Version: 1.48.0 Command: chmod a+r CNORode -R && F:\biocbuild\bbs-3.20-bioc\R\bin\R.exe CMD build --keep-empty-dirs --no-resave-data CNORode StartedAt: 2025-03-31 18:05:40 -0400 (Mon, 31 Mar 2025) EndedAt: 2025-03-31 18:06:44 -0400 (Mon, 31 Mar 2025) EllapsedTime: 64.1 seconds RetCode: 0 Status: OK PackageFile: CNORode_1.48.0.tar.gz PackageFileSize: 375 KiB