Package: CNORode Version: 1.48.0 Command: rm -rf CNORode.buildbin-libdir && mkdir CNORode.buildbin-libdir && /Users/biocbuild/BBS/utils/build-universal.sh CNORode_1.48.0.tar.gz /Library/Frameworks/R.framework/Resources/bin/R CNORode.buildbin-libdir StartedAt: 2025-04-01 11:38:09 -0400 (Tue, 01 Apr 2025) EndedAt: 2025-04-01 11:38:48 -0400 (Tue, 01 Apr 2025) EllapsedTime: 38.9 seconds RetCode: 0 Status: OK PackageFile: CNORode_1.48.0.tgz PackageFileSize: 457.2 KiB