Package: CNORode Version: 1.48.0 Command: /Library/Frameworks/R.framework/Resources/bin/R CMD INSTALL CNORode StartedAt: 2025-03-31 16:34:47 -0400 (Mon, 31 Mar 2025) EndedAt: 2025-03-31 16:35:02 -0400 (Mon, 31 Mar 2025) EllapsedTime: 14.7 seconds RetCode: 0 Status: OK