Package: CNORode Version: 1.48.0 Command: /Library/Frameworks/R.framework/Resources/bin/R CMD build --keep-empty-dirs --no-resave-data CNORode StartedAt: 2025-03-31 21:01:43 -0400 (Mon, 31 Mar 2025) EndedAt: 2025-03-31 21:02:21 -0400 (Mon, 31 Mar 2025) EllapsedTime: 38.0 seconds RetCode: 0 Status: OK PackageFile: CNORode_1.48.0.tar.gz PackageFileSize: 517 KiB