Package: CNORfuzzy Version: 1.48.0 Command: chmod a+r CNORfuzzy -R && F:\biocbuild\bbs-3.20-bioc\R\bin\R.exe CMD build --keep-empty-dirs --no-resave-data CNORfuzzy StartedAt: 2025-03-31 18:05:33 -0400 (Mon, 31 Mar 2025) EndedAt: 2025-03-31 18:07:06 -0400 (Mon, 31 Mar 2025) EllapsedTime: 93.2 seconds RetCode: 0 Status: OK PackageFile: CNORfuzzy_1.48.0.tar.gz PackageFileSize: 923 KiB