Package: CNORdt Version: 1.48.0 Command: /Library/Frameworks/R.framework/Resources/bin/R CMD check --install=check:CNORdt.install-out.txt --library=/Library/Frameworks/R.framework/Resources/library --no-vignettes --timings CNORdt_1.48.0.tar.gz StartedAt: 2025-04-01 14:35:28 -0400 (Tue, 01 Apr 2025) EndedAt: 2025-04-01 14:37:29 -0400 (Tue, 01 Apr 2025) EllapsedTime: 120.6 seconds RetCode: 0 Status: OK CheckDir: CNORdt.Rcheck Warnings: 0