Package: CNEr Version: 1.42.0 Command: /Library/Frameworks/R.framework/Resources/bin/R CMD INSTALL CNEr StartedAt: 2025-03-31 15:30:16 -0400 (Mon, 31 Mar 2025) EndedAt: 2025-03-31 15:32:01 -0400 (Mon, 31 Mar 2025) EllapsedTime: 105.3 seconds RetCode: 0 Status: OK