Package: CNAnorm Version: 1.52.0 Command: /home/biocbuild/R/R/bin/R CMD INSTALL CNAnorm StartedAt: 2025-03-31 20:16:52 -0000 (Mon, 31 Mar 2025) EndedAt: 2025-03-31 20:17:21 -0000 (Mon, 31 Mar 2025) EllapsedTime: 28.9 seconds RetCode: 0 Status: OK