Package: CINdex Version: 1.34.0 Command: /home/biocbuild/bbs-3.20-bioc/R/bin/R CMD INSTALL CINdex StartedAt: 2025-03-31 15:16:59 -0400 (Mon, 31 Mar 2025) EndedAt: 2025-03-31 15:17:22 -0400 (Mon, 31 Mar 2025) EllapsedTime: 23.5 seconds RetCode: 0 Status: OK