Package: CINdex Version: 1.34.0 Command: /Library/Frameworks/R.framework/Resources/bin/R CMD INSTALL CINdex StartedAt: 2025-03-31 15:16:57 -0400 (Mon, 31 Mar 2025) EndedAt: 2025-03-31 15:17:47 -0400 (Mon, 31 Mar 2025) EllapsedTime: 50.5 seconds RetCode: 0 Status: OK