Package: CINdex Version: 1.34.0 Command: /Library/Frameworks/R.framework/Resources/bin/R CMD build --keep-empty-dirs --no-resave-data CINdex StartedAt: 2025-03-31 20:42:31 -0400 (Mon, 31 Mar 2025) EndedAt: 2025-03-31 20:46:41 -0400 (Mon, 31 Mar 2025) EllapsedTime: 250.8 seconds RetCode: 1 Status: ERROR PackageFile: None PackageFileSize: NA