Package: CIMICE Version: 1.14.0 Command: /home/biocbuild/R/R/bin/R CMD INSTALL CIMICE StartedAt: 2025-03-31 20:55:32 -0000 (Mon, 31 Mar 2025) EndedAt: 2025-03-31 20:55:43 -0000 (Mon, 31 Mar 2025) EllapsedTime: 11.8 seconds RetCode: 0 Status: OK