Package: CHETAH Version: 1.22.0 Command: /home/biocbuild/R/R/bin/R CMD INSTALL CHETAH StartedAt: 2025-03-31 20:45:03 -0000 (Mon, 31 Mar 2025) EndedAt: 2025-03-31 20:45:38 -0000 (Mon, 31 Mar 2025) EllapsedTime: 35.4 seconds RetCode: 0 Status: OK