Package: CGHregions Version: 1.64.0 Command: /home/biocbuild/bbs-3.20-bioc/R/bin/R CMD check --install=check:CGHregions.install-out.txt --library=/home/biocbuild/bbs-3.20-bioc/R/site-library --timings CGHregions_1.64.0.tar.gz StartedAt: 2025-03-31 20:41:02 -0400 (Mon, 31 Mar 2025) EndedAt: 2025-03-31 20:41:38 -0400 (Mon, 31 Mar 2025) EllapsedTime: 35.1 seconds RetCode: 0 Status: OK CheckDir: CGHregions.Rcheck Warnings: 0