Package: CGHregions Version: 1.64.0 Command: rm -rf CGHregions.buildbin-libdir && mkdir CGHregions.buildbin-libdir && /Users/biocbuild/BBS/utils/build-universal.sh CGHregions_1.64.0.tar.gz /Library/Frameworks/R.framework/Resources/bin/R CGHregions.buildbin-libdir StartedAt: 2025-04-01 11:34:50 -0400 (Tue, 01 Apr 2025) EndedAt: 2025-04-01 11:35:01 -0400 (Tue, 01 Apr 2025) EllapsedTime: 11.0 seconds RetCode: 0 Status: OK PackageFile: CGHregions_1.64.0.tgz PackageFileSize: 244.8 KiB