Package: CGHnormaliter Version: 1.60.0 Command: F:\biocbuild\bbs-3.20-bioc\R\bin\R.exe CMD check --no-multiarch --install=check:CGHnormaliter.install-out.txt --library=F:\biocbuild\bbs-3.20-bioc\R\library --no-vignettes --timings CGHnormaliter_1.60.0.tar.gz StartedAt: 2025-03-31 23:55:36 -0400 (Mon, 31 Mar 2025) EndedAt: 2025-03-31 23:57:16 -0400 (Mon, 31 Mar 2025) EllapsedTime: 100.4 seconds RetCode: 0 Status: OK CheckDir: CGHnormaliter.Rcheck Warnings: 0