Package: CGHnormaliter Version: 1.60.0 Command: /Library/Frameworks/R.framework/Resources/bin/R CMD build --keep-empty-dirs --no-resave-data CGHnormaliter StartedAt: 2025-03-31 17:35:44 -0400 (Mon, 31 Mar 2025) EndedAt: 2025-03-31 17:37:18 -0400 (Mon, 31 Mar 2025) EllapsedTime: 93.6 seconds RetCode: 0 Status: OK PackageFile: CGHnormaliter_1.60.0.tar.gz PackageFileSize: 1.245 MiB