Package: CGHcall Version: 2.68.0 Command: /home/biocbuild/R/R/bin/R CMD INSTALL CGHcall StartedAt: 2025-03-31 20:17:50 -0000 (Mon, 31 Mar 2025) EndedAt: 2025-03-31 20:18:25 -0000 (Mon, 31 Mar 2025) EllapsedTime: 34.6 seconds RetCode: 0 Status: OK