Package: CGEN Version: 3.42.0 Command: F:\biocbuild\bbs-3.20-bioc\R\bin\R.exe CMD INSTALL CGEN StartedAt: 2025-03-31 16:41:04 -0400 (Mon, 31 Mar 2025) EndedAt: 2025-03-31 16:41:59 -0400 (Mon, 31 Mar 2025) EllapsedTime: 55.7 seconds RetCode: 0 Status: OK