Package: CGEN Version: 3.42.0 Command: chmod a+r CGEN -R && F:\biocbuild\bbs-3.20-bioc\R\bin\R.exe CMD build --keep-empty-dirs --no-resave-data CGEN StartedAt: 2025-03-31 17:54:57 -0400 (Mon, 31 Mar 2025) EndedAt: 2025-03-31 17:56:16 -0400 (Mon, 31 Mar 2025) EllapsedTime: 79.4 seconds RetCode: 0 Status: OK PackageFile: CGEN_3.42.0.tar.gz PackageFileSize: 821.2 KiB