Package: CGEN Version: 3.42.0 Command: /Library/Frameworks/R.framework/Resources/bin/R CMD INSTALL CGEN StartedAt: 2025-03-31 16:14:01 -0400 (Mon, 31 Mar 2025) EndedAt: 2025-03-31 16:14:58 -0400 (Mon, 31 Mar 2025) EllapsedTime: 57.2 seconds RetCode: 0 Status: OK