Package: CGEN Version: 3.42.0 Command: /Library/Frameworks/R.framework/Resources/bin/R CMD build --keep-empty-dirs --no-resave-data CGEN StartedAt: 2025-03-31 17:34:25 -0400 (Mon, 31 Mar 2025) EndedAt: 2025-03-31 17:36:05 -0400 (Mon, 31 Mar 2025) EllapsedTime: 100.0 seconds RetCode: 0 Status: OK PackageFile: CGEN_3.42.0.tar.gz PackageFileSize: 980.2 KiB