Package: CGEN Version: 3.42.0 Command: rm -rf CGEN.buildbin-libdir && mkdir CGEN.buildbin-libdir && /Users/biocbuild/BBS/utils/build-universal.sh CGEN_3.42.0.tar.gz /Library/Frameworks/R.framework/Resources/bin/R CGEN.buildbin-libdir StartedAt: 2025-04-01 11:34:32 -0400 (Tue, 01 Apr 2025) EndedAt: 2025-04-01 11:35:34 -0400 (Tue, 01 Apr 2025) EllapsedTime: 62.8 seconds RetCode: 0 Status: OK PackageFile: CGEN_3.42.0.tgz PackageFileSize: 1.928 MiB