Package: CFAssay Version: 1.40.0 Command: /home/biocbuild/R/R/bin/R CMD INSTALL CFAssay StartedAt: 2025-03-31 20:17:58 -0000 (Mon, 31 Mar 2025) EndedAt: 2025-03-31 20:18:26 -0000 (Mon, 31 Mar 2025) EllapsedTime: 28.0 seconds RetCode: 0 Status: OK