Package: CFAssay Version: 1.40.0 Command: rm -rf CFAssay.buildbin-libdir && mkdir CFAssay.buildbin-libdir && /Users/biocbuild/BBS/utils/build-universal.sh CFAssay_1.40.0.tar.gz /Library/Frameworks/R.framework/Resources/bin/R CFAssay.buildbin-libdir StartedAt: 2025-04-01 11:34:25 -0400 (Tue, 01 Apr 2025) EndedAt: 2025-04-01 11:34:32 -0400 (Tue, 01 Apr 2025) EllapsedTime: 6.6 seconds RetCode: 0 Status: OK PackageFile: CFAssay_1.40.0.tgz PackageFileSize: 399.6 KiB