Package: CFAssay Version: 1.40.0 Command: /Library/Frameworks/R.framework/Resources/bin/R CMD build --keep-empty-dirs --no-resave-data CFAssay StartedAt: 2025-03-31 20:22:11 -0400 (Mon, 31 Mar 2025) EndedAt: 2025-03-31 20:22:24 -0400 (Mon, 31 Mar 2025) EllapsedTime: 12.5 seconds RetCode: 0 Status: OK PackageFile: CFAssay_1.40.0.tar.gz PackageFileSize: 322.9 KiB