Package: CDI Version: 1.4.0 Command: F:\biocbuild\bbs-3.20-bioc\R\bin\R.exe CMD check --no-multiarch --install=check:CDI.install-out.txt --library=F:\biocbuild\bbs-3.20-bioc\R\library --no-vignettes --timings CDI_1.4.0.tar.gz StartedAt: 2025-03-31 23:49:05 -0400 (Mon, 31 Mar 2025) EndedAt: 2025-03-31 23:54:43 -0400 (Mon, 31 Mar 2025) EllapsedTime: 338.0 seconds RetCode: 0 Status: OK CheckDir: CDI.Rcheck Warnings: 0