Package: CCPROMISE Version: 1.32.0 Command: /home/biocbuild/R/R/bin/R CMD check --install=check:CCPROMISE.install-out.txt --library=/home/biocbuild/R/R/site-library --no-vignettes --timings CCPROMISE_1.32.0.tar.gz StartedAt: 2025-04-01 04:50:30 -0000 (Tue, 01 Apr 2025) EndedAt: 2025-04-01 04:53:35 -0000 (Tue, 01 Apr 2025) EllapsedTime: 185.1 seconds RetCode: 0 Status: WARNINGS CheckDir: CCPROMISE.Rcheck Warnings: 1