Package: CCPROMISE Version: 1.32.0 Command: /Library/Frameworks/R.framework/Resources/bin/R CMD check --install=check:CCPROMISE.install-out.txt --library=/Library/Frameworks/R.framework/Resources/library --no-vignettes --timings CCPROMISE_1.32.0.tar.gz StartedAt: 2025-04-01 13:26:13 -0400 (Tue, 01 Apr 2025) EndedAt: 2025-04-01 13:29:47 -0400 (Tue, 01 Apr 2025) EllapsedTime: 214.3 seconds RetCode: 0 Status: WARNINGS CheckDir: CCPROMISE.Rcheck Warnings: 1