Package: CBNplot Version: 1.6.0 Command: /home/biocbuild/R/R/bin/R CMD build --keep-empty-dirs --no-resave-data CBNplot StartedAt: 2025-03-31 22:08:41 -0000 (Mon, 31 Mar 2025) EndedAt: 2025-03-31 22:10:03 -0000 (Mon, 31 Mar 2025) EllapsedTime: 82.0 seconds RetCode: 0 Status: OK PackageFile: CBNplot_1.6.0.tar.gz PackageFileSize: 676.7 KiB