Package: CBNplot Version: 1.6.0 Command: chmod a+r CBNplot -R && F:\biocbuild\bbs-3.20-bioc\R\bin\R.exe CMD build --keep-empty-dirs --no-resave-data CBNplot StartedAt: 2025-03-31 17:48:55 -0400 (Mon, 31 Mar 2025) EndedAt: 2025-03-31 17:50:16 -0400 (Mon, 31 Mar 2025) EllapsedTime: 81.4 seconds RetCode: 0 Status: OK PackageFile: CBNplot_1.6.0.tar.gz PackageFileSize: 649.5 KiB