Package: CBNplot Version: 1.6.0 Command: /Library/Frameworks/R.framework/Resources/bin/R CMD build --keep-empty-dirs --no-resave-data CBNplot StartedAt: 2025-03-31 17:29:06 -0400 (Mon, 31 Mar 2025) EndedAt: 2025-03-31 17:30:34 -0400 (Mon, 31 Mar 2025) EllapsedTime: 87.8 seconds RetCode: 1 Status: ERROR PackageFile: None PackageFileSize: NA