Package: CBEA Version: 1.6.0 Command: F:\biocbuild\bbs-3.20-bioc\R\bin\R.exe CMD INSTALL CBEA StartedAt: 2025-03-31 16:36:05 -0400 (Mon, 31 Mar 2025) EndedAt: 2025-03-31 16:36:57 -0400 (Mon, 31 Mar 2025) EllapsedTime: 51.6 seconds RetCode: 0 Status: OK