Package: CBEA Version: 1.6.0 Command: /home/biocbuild/bbs-3.20-bioc/R/bin/R CMD INSTALL CBEA StartedAt: 2025-03-31 15:44:48 -0400 (Mon, 31 Mar 2025) EndedAt: 2025-03-31 15:45:25 -0400 (Mon, 31 Mar 2025) EllapsedTime: 37.3 seconds RetCode: 0 Status: OK