############################################################################## ############################################################################## ### ### Running command: ### ### /home/biocbuild/R/R/bin/R CMD check --install=check:CATALYST.install-out.txt --library=/home/biocbuild/R/R/site-library --no-vignettes --timings CATALYST_1.30.2.tar.gz ### ############################################################################## ############################################################################## * using log directory ‘/home/biocbuild/bbs-3.20-bioc/meat/CATALYST.Rcheck’ * using R version 4.4.3 (2025-02-28) * using platform: aarch64-unknown-linux-gnu * R was compiled by aarch64-unknown-linux-gnu-gcc (GCC) 14.2.0 GNU Fortran (GCC) 14.2.0 * running under: openEuler 24.03 (LTS) * using session charset: UTF-8 * using option ‘--no-vignettes’ * checking for file ‘CATALYST/DESCRIPTION’ ... OK * checking extension type ... Package * this is package ‘CATALYST’ version ‘1.30.2’ * package encoding: UTF-8 * checking package namespace information ... OK * checking package dependencies ... OK * checking if this is a source package ... OK * checking if there is a namespace ... OK * checking for hidden files and directories ... OK * checking for portable file names ... OK * checking for sufficient/correct file permissions ... OK * checking whether package ‘CATALYST’ can be installed ... OK * checking installed package size ... OK * checking package directory ... OK * checking ‘build’ directory ... OK * checking DESCRIPTION meta-information ... OK * checking top-level files ... OK * checking for left-over files ... OK * checking index information ... OK * checking package subdirectories ... OK * checking code files for non-ASCII characters ... OK * checking R files for syntax errors ... OK * checking whether the package can be loaded ... OK * checking whether the package can be loaded with stated dependencies ... OK * checking whether the package can be unloaded cleanly ... OK * checking whether the namespace can be loaded with stated dependencies ... OK * checking whether the namespace can be unloaded cleanly ... OK * checking loading without being on the library search path ... OK * checking dependencies in R code ... OK * checking S3 generic/method consistency ... OK * checking replacement functions ... OK * checking foreign function calls ... OK * checking R code for possible problems ... OK * checking Rd files ... NOTE checkRd: (-1) plotDiffHeatmap.Rd:87: Lost braces in \itemize; meant \describe ? checkRd: (-1) plotDiffHeatmap.Rd:88: Lost braces in \itemize; meant \describe ? * checking Rd metadata ... OK * checking Rd cross-references ... OK * checking for missing documentation entries ... OK * checking for code/documentation mismatches ... OK * checking Rd \usage sections ... OK * checking Rd contents ... OK * checking for unstated dependencies in examples ... OK * checking contents of ‘data’ directory ... OK * checking data for non-ASCII characters ... OK * checking LazyData ... OK * checking data for ASCII and uncompressed saves ... OK * checking files in ‘vignettes’ ... OK * checking examples ... OK Examples with CPU (user + system) or elapsed time > 5s user system elapsed plotMultiHeatmap 17.454 0.083 17.577 plotPbExprs 17.128 0.104 17.271 plotDiffHeatmap 15.832 0.059 15.978 plotDR 13.619 0.072 13.732 sce2fcs 12.991 0.052 13.079 plotExprHeatmap 12.385 0.088 12.505 plotClusterExprs 9.562 0.123 9.717 mergeClusters 9.000 0.044 9.076 pbMDS 8.427 0.051 8.502 plotCodes 8.351 0.040 8.413 SCE-accessors 8.222 0.135 8.383 plotFreqHeatmap 8.238 0.064 8.323 clrDR 8.144 0.064 8.231 plotAbundances 7.858 0.052 7.932 compCytof 7.027 0.139 7.187 extractClusters 7.008 0.048 7.075 plotMahal 6.948 0.024 6.991 filterSCE 6.790 0.020 6.828 cluster 6.624 0.120 6.763 plotSpillmat 5.825 0.028 5.869 computeSpillmat 5.698 0.032 5.747 adaptSpillmat 5.375 0.020 5.411 plotYields 5.350 0.016 5.380 plotScatter 5.151 0.072 5.236 estCutoffs 4.977 0.016 5.008 * checking for unstated dependencies in ‘tests’ ... OK * checking tests ... Running ‘testthat.R’ OK * checking for unstated dependencies in vignettes ... OK * checking package vignettes ... OK * checking running R code from vignettes ... SKIPPED * checking re-building of vignette outputs ... SKIPPED * checking PDF version of manual ... OK * DONE Status: 1 NOTE See ‘/home/biocbuild/bbs-3.20-bioc/meat/CATALYST.Rcheck/00check.log’ for details.