Package: CATALYST Version: 1.30.2 Command: /Library/Frameworks/R.framework/Resources/bin/R CMD check --install=check:CATALYST.install-out.txt --library=/Library/Frameworks/R.framework/Resources/library --no-vignettes --timings CATALYST_1.30.2.tar.gz StartedAt: 2025-04-01 00:20:02 -0400 (Tue, 01 Apr 2025) EndedAt: 2025-04-01 00:41:57 -0400 (Tue, 01 Apr 2025) EllapsedTime: 1315.1 seconds RetCode: 0 Status: OK CheckDir: CATALYST.Rcheck Warnings: 0