Package: CATALYST Version: 1.30.2 Command: /Library/Frameworks/R.framework/Resources/bin/R CMD build --keep-empty-dirs --no-resave-data CATALYST StartedAt: 2025-03-31 17:28:19 -0400 (Mon, 31 Mar 2025) EndedAt: 2025-03-31 17:34:25 -0400 (Mon, 31 Mar 2025) EllapsedTime: 366.4 seconds RetCode: 0 Status: OK PackageFile: CATALYST_1.30.2.tar.gz PackageFileSize: 12.04 MiB