Package: CATALYST Version: 1.30.2 Command: rm -rf CATALYST.buildbin-libdir && mkdir CATALYST.buildbin-libdir && /Users/biocbuild/BBS/utils/build-universal.sh CATALYST_1.30.2.tar.gz /Library/Frameworks/R.framework/Resources/bin/R CATALYST.buildbin-libdir StartedAt: 2025-04-01 11:32:34 -0400 (Tue, 01 Apr 2025) EndedAt: 2025-04-01 11:34:03 -0400 (Tue, 01 Apr 2025) EllapsedTime: 89.0 seconds RetCode: 0 Status: OK PackageFile: CATALYST_1.30.2.tgz PackageFileSize: 12.75 MiB