Package: CARNIVAL Version: 2.16.0 Command: chmod a+r CARNIVAL -R && F:\biocbuild\bbs-3.20-bioc\R\bin\R.exe CMD build --keep-empty-dirs --no-resave-data CARNIVAL StartedAt: 2025-03-31 17:47:36 -0400 (Mon, 31 Mar 2025) EndedAt: 2025-03-31 17:48:07 -0400 (Mon, 31 Mar 2025) EllapsedTime: 30.8 seconds RetCode: 0 Status: OK PackageFile: CARNIVAL_2.16.0.tar.gz PackageFileSize: 2.047 MiB