Package: CARNIVAL Version: 2.16.0 Command: rm -rf CARNIVAL.buildbin-libdir && mkdir CARNIVAL.buildbin-libdir && F:\biocbuild\bbs-3.20-bioc\R\bin\R.exe CMD INSTALL --build --library=CARNIVAL.buildbin-libdir CARNIVAL_2.16.0.tar.gz StartedAt: 2025-04-01 07:49:28 -0400 (Tue, 01 Apr 2025) EndedAt: 2025-04-01 07:50:03 -0400 (Tue, 01 Apr 2025) EllapsedTime: 34.7 seconds RetCode: 0 Status: OK PackageFile: CARNIVAL_2.16.0.zip PackageFileSize: 420.5 KiB