Package: CARNIVAL Version: 2.16.0 Command: /Library/Frameworks/R.framework/Resources/bin/R CMD check --install=check:CARNIVAL.install-out.txt --library=/Library/Frameworks/R.framework/Resources/library --no-vignettes --timings CARNIVAL_2.16.0.tar.gz StartedAt: 2025-04-01 13:14:58 -0400 (Tue, 01 Apr 2025) EndedAt: 2025-04-01 13:15:51 -0400 (Tue, 01 Apr 2025) EllapsedTime: 53.4 seconds RetCode: 0 Status: OK CheckDir: CARNIVAL.Rcheck Warnings: 0