Package: CAFE Version: 1.42.0 Command: F:\biocbuild\bbs-3.20-bioc\R\bin\R.exe CMD INSTALL CAFE StartedAt: 2025-03-31 16:19:31 -0400 (Mon, 31 Mar 2025) EndedAt: 2025-03-31 16:20:36 -0400 (Mon, 31 Mar 2025) EllapsedTime: 64.5 seconds RetCode: 0 Status: OK