Package: CAEN Version: 1.14.0 Command: rm -rf CAEN.buildbin-libdir && mkdir CAEN.buildbin-libdir && /Users/biocbuild/BBS/utils/build-universal.sh CAEN_1.14.0.tar.gz /Library/Frameworks/R.framework/Resources/bin/R CAEN.buildbin-libdir StartedAt: 2025-04-01 11:31:47 -0400 (Tue, 01 Apr 2025) EndedAt: 2025-04-01 11:32:33 -0400 (Tue, 01 Apr 2025) EllapsedTime: 45.4 seconds RetCode: 0 Status: OK PackageFile: CAEN_1.14.0.tgz PackageFileSize: 1.52 MiB