Package: BumpyMatrix Version: 1.14.0 Command: chmod a+r BumpyMatrix -R && F:\biocbuild\bbs-3.20-bioc\R\bin\R.exe CMD build --keep-empty-dirs --no-resave-data BumpyMatrix StartedAt: 2025-03-31 17:44:47 -0400 (Mon, 31 Mar 2025) EndedAt: 2025-03-31 17:45:37 -0400 (Mon, 31 Mar 2025) EllapsedTime: 49.6 seconds RetCode: 0 Status: OK PackageFile: BumpyMatrix_1.14.0.tar.gz PackageFileSize: 318 KiB