Package: BufferedMatrix Version: 1.70.0 Command: /Library/Frameworks/R.framework/Resources/bin/R CMD build --keep-empty-dirs --no-resave-data BufferedMatrix StartedAt: 2025-03-31 19:50:40 -0400 (Mon, 31 Mar 2025) EndedAt: 2025-03-31 19:50:56 -0400 (Mon, 31 Mar 2025) EllapsedTime: 16.0 seconds RetCode: 0 Status: OK PackageFile: BufferedMatrix_1.70.0.tar.gz PackageFileSize: 629.5 KiB