Package: BubbleTree Version: 2.36.0 Command: rm -rf BubbleTree.buildbin-libdir && mkdir BubbleTree.buildbin-libdir && F:\biocbuild\bbs-3.20-bioc\R\bin\R.exe CMD INSTALL --build --library=BubbleTree.buildbin-libdir BubbleTree_2.36.0.tar.gz StartedAt: 2025-04-01 07:48:29 -0400 (Tue, 01 Apr 2025) EndedAt: 2025-04-01 07:49:46 -0400 (Tue, 01 Apr 2025) EllapsedTime: 76.4 seconds RetCode: 0 Status: OK PackageFile: BubbleTree_2.36.0.zip PackageFileSize: 25.99 MiB