Package: BrowserViz Version: 2.28.0 Command: /home/biocbuild/R/R/bin/R CMD INSTALL BrowserViz StartedAt: 2025-03-31 20:17:01 -0000 (Mon, 31 Mar 2025) EndedAt: 2025-03-31 20:17:36 -0000 (Mon, 31 Mar 2025) EllapsedTime: 34.6 seconds RetCode: 0 Status: OK