Package: BridgeDbR Version: 2.16.0 Command: /Library/Frameworks/R.framework/Resources/bin/R CMD INSTALL BridgeDbR StartedAt: 2025-03-31 15:03:50 -0400 (Mon, 31 Mar 2025) EndedAt: 2025-03-31 15:04:00 -0400 (Mon, 31 Mar 2025) EllapsedTime: 10.1 seconds RetCode: 0 Status: OK