Package: BridgeDbR Version: 2.16.0 Command: /Library/Frameworks/R.framework/Resources/bin/R CMD check --install=check:BridgeDbR.install-out.txt --library=/Library/Frameworks/R.framework/Resources/library --no-vignettes --timings BridgeDbR_2.16.0.tar.gz StartedAt: 2025-04-01 00:10:45 -0400 (Tue, 01 Apr 2025) EndedAt: 2025-04-01 00:12:09 -0400 (Tue, 01 Apr 2025) EllapsedTime: 84.3 seconds RetCode: 0 Status: OK CheckDir: BridgeDbR.Rcheck Warnings: 0